BEGIN:VCALENDAR
VERSION:2.0
METHOD:PUBLISH
BEGIN:VEVENT
DTSTAMP:20260421T103744Z
DTSTART:20260917T220000Z
DTEND:20260917T220000Z
SUMMARY:Russell County OPP Detachment Board Meeting
LOCATION:Municipal Sports Dome (150 Sportsplex Street, Embrun)
END:VEVENT
END:VCALENDAR
