BEGIN:VCALENDAR
VERSION:2.0
METHOD:PUBLISH
BEGIN:VEVENT
DTSTAMP:20260421T082710Z
DTSTART:20250701T130000Z
DTEND:20250701T160000Z
SUMMARY:Déjeuner de la Fête du Canada
LOCATION:Aréna de Russell, 1084, rue concession
END:VEVENT
END:VCALENDAR
