BEGIN:VCALENDAR
VERSION:2.0
METHOD:PUBLISH
BEGIN:VEVENT
DTSTAMP:20260425T220547Z
DTSTART:20241203T000000Z
DTEND:20241203T000000Z
SUMMARY:Réunion du Police Village of Russell 
LOCATION:A déterminer
END:VEVENT
END:VCALENDAR
