BEGIN:VCALENDAR
VERSION:2.0
METHOD:PUBLISH
BEGIN:VEVENT
DTSTAMP:20260424T201657Z
DTSTART:20260827T210000Z
DTEND:20260828T000000Z
SUMMARY:Open House Event for Seniors 
LOCATION:Centre communautaire Camille Piché, 8, rue Blais, Embrun
END:VEVENT
END:VCALENDAR
