BEGIN:VCALENDAR
VERSION:2.0
METHOD:PUBLISH
BEGIN:VEVENT
DTSTAMP:20260421T083259Z
DTSTART:20260329T230000Z
DTEND:20260330T000000Z
SUMMARY:Alcoholics Anonymous, beginners meeting
LOCATION:6 Blais Street, Embrun (upstairs)
END:VEVENT
END:VCALENDAR
