BEGIN:VCALENDAR
VERSION:2.0
METHOD:PUBLISH
BEGIN:VEVENT
DTSTAMP:20260421T094533Z
DTSTART:20260306T223000Z
DTEND:20260307T010000Z
SUMMARY:Community Supper
LOCATION:Camille Piché Community Centre, 8 Blais Street, Embrun
END:VEVENT
END:VCALENDAR
