BEGIN:VCALENDAR
VERSION:2.0
METHOD:PUBLISH
BEGIN:VEVENT
DTSTAMP:20260421T083340Z
DTSTART:20260302T000000Z
DTEND:20260302T010000Z
SUMMARY:Alcoholics Anonymous, beginners meeting
LOCATION:6 Blais Street, Embrun (upstairs)
END:VEVENT
END:VCALENDAR
