BEGIN:VCALENDAR
VERSION:2.0
METHOD:PUBLISH
BEGIN:VEVENT
DTSTAMP:20260424T171757Z
DTSTART:20251123T150000Z
DTEND:20251123T210000Z
SUMMARY:Embrun Christmas Market
LOCATION:8 Blais St
END:VEVENT
END:VCALENDAR
