BEGIN:VCALENDAR
VERSION:2.0
METHOD:PUBLISH
BEGIN:VEVENT
DTSTAMP:20260424T155050Z
DTSTART:20251122T150000Z
DTEND:20251122T210000Z
SUMMARY:Embrun Christmas Market
LOCATION:8 Blais St
END:VEVENT
END:VCALENDAR
