BEGIN:VCALENDAR
VERSION:2.0
METHOD:PUBLISH
BEGIN:VEVENT
DTSTAMP:20260420T041301Z
DTSTART:20241102T180000Z
DTEND:20241102T193000Z
SUMMARY:Healing from Indigenous Intergenerational Trauma
LOCATION:1053 Concession St., Russell
END:VEVENT
END:VCALENDAR
